BEGIN:VCALENDAR
VERSION:2.0
PRODID:-//Gminny Ośrodek Kultury w Iwierzycach z siedzibą w Wiercanach - ECPv5.4.0//NONSGML v1.0//EN
CALSCALE:GREGORIAN
METHOD:PUBLISH
X-WR-CALNAME:Gminny Ośrodek Kultury w Iwierzycach z siedzibą w Wiercanach
X-ORIGINAL-URL:https://gok-wiercany.pl
X-WR-CALDESC:Events for Gminny Ośrodek Kultury w Iwierzycach z siedzibą w Wiercanach
BEGIN:VTIMEZONE
TZID:Europe/Warsaw
BEGIN:DAYLIGHT
TZOFFSETFROM:+0100
TZOFFSETTO:+0200
TZNAME:CEST
DTSTART:20220327T010000
END:DAYLIGHT
BEGIN:STANDARD
TZOFFSETFROM:+0200
TZOFFSETTO:+0100
TZNAME:CET
DTSTART:20221030T010000
END:STANDARD
END:VTIMEZONE
BEGIN:VEVENT
DTSTART;VALUE=DATE:20220215
DTEND;VALUE=DATE:20220218
DTSTAMP:20260425T132540
CREATED:20220203T095904Z
LAST-MODIFIED:20220203T095904Z
UID:1911-1644883200-1645142399@gok-wiercany.pl
SUMMARY:Ferie Zimowe 2022 z GOK w Wiercanach
DESCRIPTION:
URL:https://gok-wiercany.pl/event/ferie-zimowe-2022-z-gok-w-wiercanach/
LOCATION:Gminny Ośrodek Kultury w Iwierzycach z/s w Wiercanach\, Wiercany 29\, Wiercany\, podkarpackie\, 39-124\, Poland
ATTACH;FMTTYPE=image/jpeg:https://gok-wiercany.pl/wp-content/uploads/2022/02/Ferie-Zimowe-2022.jpg
ORGANIZER;CN="Gminny%20O%C5%9Brodek%20Kultury%20w%20Iwierzycach%20z%2Fs%20w%20Wiercanach":MAILTO:gokwiercany@gmail.com
END:VEVENT
END:VCALENDAR